BEGIN:VCALENDAR
VERSION:2.0
PRODID:-//eventon.com NONSGML v1.0//EN
CALSCALE:GREGORIAN
METHOD:PUBLISH
BEGIN:VEVENT
UID:69e501352289c
DTSTAMP:20260419T162213Z
DTSTART:20240908T080000Z
DTEND:20240908T130000Z
LOCATION:Bergumsgården i Olofstorp Lyckåsvägen 1
SUMMARY:Skördefest 8:e september
DESCRIPTION:OLOFSTORPS SKÖRDEFEST! Ett festligt evenemang som arrangeras s
 edan 2014 och erbjuder något för alla åldrar. Här finner du lokalproduc
 erat kött\,  grönsaker\,  frukt\,  saft o sylt\,  konst &amp; hantverk. R
 oliga aktiviteter\,  tävlingar\,  lotterier mm. 8 september kl. 10 till 15
 . &nbsp; Skördefesten centrala Olofstorp: Säljare av hantverk\,  närodla
 t och mathantverk. Pumpatävling.[..]\nhttps://www.bergum-gunnilse.se/event
 s/skordefest-3/
URL:https://www.bergum-gunnilse.se/events/skordefest-3/
END:VEVENT
END:VCALENDAR